BEGIN:VCALENDAR
VERSION:2.0
PRODID:-//Employee Rights Center - ECPv6.15.13.1//NONSGML v1.0//EN
CALSCALE:GREGORIAN
METHOD:PUBLISH
X-WR-CALNAME:Employee Rights Center
X-ORIGINAL-URL:https://weberc.net
X-WR-CALDESC:Events for Employee Rights Center
REFRESH-INTERVAL;VALUE=DURATION:PT1H
X-Robots-Tag:noindex
X-PUBLISHED-TTL:PT1H
BEGIN:VTIMEZONE
TZID:America/Los_Angeles
BEGIN:DAYLIGHT
TZOFFSETFROM:-0800
TZOFFSETTO:-0700
TZNAME:PDT
DTSTART:20170312T100000
END:DAYLIGHT
BEGIN:STANDARD
TZOFFSETFROM:-0700
TZOFFSETTO:-0800
TZNAME:PST
DTSTART:20171105T090000
END:STANDARD
BEGIN:DAYLIGHT
TZOFFSETFROM:-0800
TZOFFSETTO:-0700
TZNAME:PDT
DTSTART:20180311T100000
END:DAYLIGHT
BEGIN:STANDARD
TZOFFSETFROM:-0700
TZOFFSETTO:-0800
TZNAME:PST
DTSTART:20181104T090000
END:STANDARD
BEGIN:DAYLIGHT
TZOFFSETFROM:-0800
TZOFFSETTO:-0700
TZNAME:PDT
DTSTART:20190310T100000
END:DAYLIGHT
BEGIN:STANDARD
TZOFFSETFROM:-0700
TZOFFSETTO:-0800
TZNAME:PST
DTSTART:20191103T090000
END:STANDARD
END:VTIMEZONE
BEGIN:VTIMEZONE
TZID:UTC
BEGIN:STANDARD
TZOFFSETFROM:+0000
TZOFFSETTO:+0000
TZNAME:UTC
DTSTART:20160101T000000
END:STANDARD
END:VTIMEZONE
BEGIN:VEVENT
DTSTART;TZID=America/Los_Angeles:20180525T180000
DTEND;TZID=America/Los_Angeles:20180525T193000
DTSTAMP:20260423T090816
CREATED:20180509T183326Z
LAST-MODIFIED:20180509T183326Z
UID:2142-1527271200-1527276600@weberc.net
SUMMARY:ERC Monthly Workshop- Wage\, Overtime and Sick Leave
DESCRIPTION:Do you want to learn about minimum wage\, overtime and earned sick leave laws? \nPresenter: Bernadette Bautista – Employment Law Attorney \nChildcare and Dinner will be provided
URL:https://weberc.net/event/erc-monthly-workshop-wage-overtime-and-sick-leave/
LOCATION:Employee Rights Center\, 4265 Fairmount Avenue\, Suite 250\, San Diego\, CA\, 92105\, United States
ORGANIZER;CN="Maristella Chimbo":MAILTO:mchimbo@weberc.net
END:VEVENT
BEGIN:VEVENT
DTSTART;TZID=America/Los_Angeles:20180502T180000
DTEND;TZID=America/Los_Angeles:20180502T210000
DTSTAMP:20260423T090816
CREATED:20180410T192531Z
LAST-MODIFIED:20180410T195109Z
UID:1771-1525284000-1525294800@weberc.net
SUMMARY:May Day 2018 Fundraiser
DESCRIPTION:Join us in celebrating worker organizing in our community! \nWhat to expect: Dinner\, dancing\, drinks\, presentation\, and silent auction. \nTo purchase tickets or become a sponsor\, please click our link below.
URL:https://weberc.net/event/may-day-2018-fundraiser/
LOCATION:Centro Cultural de la Raza\, 2004 Park Blvd\, San Diego\, CA\, 92101\, United States
CATEGORIES:Fundraisers
ATTACH;FMTTYPE=image/png:https://weberc.net/wp-content/uploads/2018/03/Centro-Save-the-Date.png
END:VEVENT
BEGIN:VEVENT
DTSTART;TZID=America/Los_Angeles:20180427T180000
DTEND;TZID=America/Los_Angeles:20180427T193000
DTSTAMP:20260423T090816
CREATED:20180410T194258Z
LAST-MODIFIED:20180410T194258Z
UID:1776-1524852000-1524857400@weberc.net
SUMMARY:Free Workshop:  Family Law
DESCRIPTION:Come Learn and gain free information on Family Law!\nFree presentation in English y en Español.  Childcare and dinner will be provided.
URL:https://weberc.net/event/free-workshop-family-law/
LOCATION:Employee Rights Center\, 4265 Fairmount Avenue\, Suite 200\, San Diego\, CA\, 92105\, United States
CATEGORIES:Workshops
ATTACH;FMTTYPE=image/jpeg:https://weberc.net/wp-content/uploads/2018/04/Family-Law-Photo.jpg
ORGANIZER;CN="Maristella Chimbo":MAILTO:mchimbo@weberc.net
END:VEVENT
BEGIN:VEVENT
DTSTART;TZID=UTC:20171207T180000
DTEND;TZID=UTC:20171207T210000
DTSTAMP:20260423T090816
CREATED:20171020T033600Z
LAST-MODIFIED:20171020T033640Z
UID:169-1512669600-1512680400@weberc.net
SUMMARY:2017 Fall Mixer Fundraiser
DESCRIPTION:Fall 2017 Fundraiser: Celebrating Immigrant Worker Organizing
URL:https://weberc.net/event/2017-fall-mixer-fundraiser/
LOCATION:Sherman Heights Community Center\, 2258 Island Avenue\, San Diego\, CA\, 92102\, United States
END:VEVENT
END:VCALENDAR